BEGIN:VCALENDAR
VERSION:2.0
PRODID:-//Empresas Creativas de Chile - ECPv6.2.9//NONSGML v1.0//EN
CALSCALE:GREGORIAN
METHOD:PUBLISH
X-WR-CALNAME:Empresas Creativas de Chile
X-ORIGINAL-URL:https://www.achap.cl
X-WR-CALDESC:Events for Empresas Creativas de Chile
REFRESH-INTERVAL;VALUE=DURATION:PT1H
X-Robots-Tag:noindex
X-PUBLISHED-TTL:PT1H
BEGIN:VTIMEZONE
TZID:UTC
BEGIN:STANDARD
TZOFFSETFROM:+0000
TZOFFSETTO:+0000
TZNAME:UTC
DTSTART:20180101T000000
END:STANDARD
END:VTIMEZONE
BEGIN:VEVENT
DTSTART;TZID=UTC:20180110T083000
DTEND;TZID=UTC:20180110T230000
DTSTAMP:20260425T194124
CREATED:20180104T183305Z
LAST-MODIFIED:20180106T232730Z
UID:15585-1515573000-1515625200@www.achap.cl
SUMMARY:Jornada Achap: Marketing de Contenidos
DESCRIPTION:Cuatro expositores de la industria del marketing se unen en una jornada para debatir y analizar como se vislumbra el marketing de contenidos para este año.
URL:https://www.achap.cl/evento/jornada-achap-marketing-contenidos/
LOCATION:TVN\, Bellavista 0990\, Santiago\, Chile
CATEGORIES:jornadas achap
ATTACH;FMTTYPE=image/jpeg:https://www.achap.cl/wp-content/uploads/2018/01/rrssINSTAGRAM_1.jpg
END:VEVENT
END:VCALENDAR